BEGIN:VCALENDAR
VERSION:2.0
PRODID:-//München feiert 75 Jahre Grundgesetz - ECPv6.5.1.5//NONSGML v1.0//EN
CALSCALE:GREGORIAN
METHOD:PUBLISH
X-WR-CALNAME:München feiert 75 Jahre Grundgesetz
X-ORIGINAL-URL:https://muenchenfeiert75gg.de
X-WR-CALDESC:Veranstaltungen für München feiert 75 Jahre Grundgesetz
REFRESH-INTERVAL;VALUE=DURATION:PT1H
X-Robots-Tag:noindex
X-PUBLISHED-TTL:PT1H
BEGIN:VTIMEZONE
TZID:UTC
BEGIN:STANDARD
TZOFFSETFROM:+0000
TZOFFSETTO:+0000
TZNAME:UTC
DTSTART:20240101T000000
END:STANDARD
END:VTIMEZONE
BEGIN:VEVENT
DTSTART;TZID=UTC:20240513T120000
DTEND;TZID=UTC:20240513T170000
DTSTAMP:20260423T090043
CREATED:20240325T151416Z
LAST-MODIFIED:20240510T175505Z
UID:10000421-1715601600-1715619600@muenchenfeiert75gg.de
SUMMARY:Comedyworkshop mit dem Lucky Punch Comedy Club
DESCRIPTION:Als lockerer Einstieg in die Aktionswoche finden am Nachmittag des 13. Mai 2024 zwei Comedyworkshops zusammen mit dem Lucky Punch Comedy Club statt. In einer Gruppe von maximal 20 Personen könnt ihr hier zusammen mit Comedian und Buchautor Max Osswald die Grundtechniken der Comedy erlernen und anschließend eure ersten eigenen Jokes zu den Themen Demokratie\, Grundrechte & Grundgesetz schreiben. Zielgruppe sind Schüler*innen ab der 9. Klasse\, aber auch alle Münchner Bürger*innen! \nDie Anmeldung ist abgeschlossen. \n 
URL:https://muenchenfeiert75gg.de/projekt/comedyworkshop-mit-dem-lucky-punch-comedy-club-2
LOCATION:Lucky Punch Comedy Club\, Rosenheimer Str. 5\, München\, 81667
CATEGORIES:Aktionswoche,Aktionswoche Montag,Loop Montag,Workshop
ATTACH;FMTTYPE=image/jpeg:https://muenchenfeiert75gg.de/wp-content/uploads/2024/03/Lucky-Punch-Okt-23-546-scaled.jpg
ORGANIZER;CN="Referat f%C3%BCr Bildung und Sport":MAILTO:aktionswoche75jahregg.rbs@muenchen.de
END:VEVENT
BEGIN:VEVENT
DTSTART;TZID=UTC:20240513T170000
DTEND;TZID=UTC:20240513T190000
DTSTAMP:20260423T090043
CREATED:20240206T095307Z
LAST-MODIFIED:20240512T150526Z
UID:10000003-1715619600-1715626800@muenchenfeiert75gg.de
SUMMARY:Tatort Geschichte: Roter Terror - Weißer Terror: als München im Chaos versank
DESCRIPTION:Im Jahr 1919 klebt Blut auf den Straßen Münchens\, die Stadt versinkt in den Nachkriegswirren in einem Strudel der Gewalt. Kommunisten & Sozialisten kämpfen gegen Reichswehr & Freikorps\, die Leichen stapeln sich. Zwei Tatorte\, zwei Geschichten. \nWir tauchen ein in die Zeit der Nachkriegswirren\, in der die Münchner Räterepublik äußerst brutal niedergeschlagen wird. Dabei beleuchten wir auch die Frage\, ob der „Kampf um München“ schon der Vorbote für die unheilvolle deutsche Geschichte war\, die folgen sollte. War die erste deutsche Demokratie schon bei ihrer Geburt zum Scheitern verurteilt und welche Auswirkungen hat das dunkle Kapitel der Münchner Stadtgeschichte auf unser heutiges Grundgesetz? \nDie Hosts des Bayern 2 Podcasts “Tatort Geschichte” Niklas Fischer und Hannes Liebrandt (zwei Historiker der Ludwig-Maximilians-Universität München) werden in einer Live-Aufführung den Weg von der Weimarer Republik bis hin zum zum Grundgesetz der Bundesrepublik Deutschland und die damit verbundenen Unwägbarkeiten aufzeigen. \nDie Veranstaltung richtet sich an Münchner*innen ab 14 Jahren. Die Teilnehmer*innen sind eingeladen\, sich hörend ein Bild über den Weg und die Hürden des Zustandekommens des Grundgesetzes zu machen. \nWeitere Folgen des Podcasts “Tatort Geschichte” sind in der ARD Audiothek zu finden. \nDie Anmeldung ist abgeschlossen.\n \n \n 
URL:https://muenchenfeiert75gg.de/projekt/live-podcastfolge-tatort-geschichte
LOCATION:Schulzentrum\, Schlierseestr. 47\, München\, 81539
CATEGORIES:Aktionswoche Montag,Aufführung,Loop Montag,Vortrag
ATTACH;FMTTYPE=image/jpeg:https://muenchenfeiert75gg.de/wp-content/uploads/2024/02/Tatort-Geschichte-History-Crime-Cover-Var5.1.jpg
ORGANIZER;CN="Referat f%C3%BCr Bildung und Sport":MAILTO:aktionswoche75jahregg.rbs@muenchen.de
END:VEVENT
BEGIN:VEVENT
DTSTART;TZID=UTC:20240513T180000
DTEND;TZID=UTC:20240513T200000
DTSTAMP:20260423T090043
CREATED:20240228T084556Z
LAST-MODIFIED:20240512T150231Z
UID:10000412-1715623200-1715630400@muenchenfeiert75gg.de
SUMMARY:Comedy und Grundrechte mit dem Lucky Punch Comedy Club
DESCRIPTION:Comedy und Grundrechte? Geht das zusammen?? Wir finden schon. Überzeugt euch selbst am Montag\, dem 13. Mai in Münchens neuem Comedy Hotspot mit den Comedians Ana Lucia\, Yalcin Norton\, Max Osswald\, Jojo Fikentscher und Ismail Hürriyetoglu. Sie nehmen die Herausforderung an\, ob die Themen Demokratie und Grundrechte auf eine Comedy Bühne gehören. Moderator Hauke van Göns wird durch diesen Abend führen. \nDie Teilnahme an der Comedynight ist kostenlos. \nDie Veranstaltung richtet sich an Münchner*innen ab 14 Jahren. \nBitte beachten Sie\, dass hier eine Anmeldung erforderlich ist. \nDie Anmeldung ist abgeschlossen.
URL:https://muenchenfeiert75gg.de/projekt/comedynight
LOCATION:Lucky Punch Comedy Club\, Rosenheimer Str. 5\, München\, 81667
CATEGORIES:Aktionswoche Montag,Loop Montag
ATTACH;FMTTYPE=image/jpeg:https://muenchenfeiert75gg.de/wp-content/uploads/2024/02/Max-Osswald-scaled.jpg
ORGANIZER;CN="Referat f%C3%BCr Bildung und Sport Presse und Kommunikation":MAILTO:aktionswoche75jahregg.rbs@muenchen.de
END:VEVENT
BEGIN:VEVENT
DTSTART;TZID=UTC:20240514T103000
DTEND;TZID=UTC:20240514T123000
DTSTAMP:20260423T090043
CREATED:20240226T100039Z
LAST-MODIFIED:20240512T151203Z
UID:10000410-1715682600-1715689800@muenchenfeiert75gg.de
SUMMARY:Demokratie - Macht die Schule mit?
DESCRIPTION:Die StadtschülerInnenvertretung München lädt zum 14.5.2024 ins Münchner Haus der Schüler*innen ein! Hier geht um nichts geringeres als Demokratie. Zuerst wird von Schüler*innen Münchens bei einer partizipativen Podiumsdiskussion gefragt: Ist Schule demokratisch bzw. kann sie es überhaupt sein? Damit Ihr so viel wie möglich mitwirken könnt\, wird die Podiumsdiskussion nach dem Fishbowl-Prinzip durchgeführt. \nPro Person im Publikum wird eine grüne und eine rote Moderationskarte bereitgestellt\, um Zustimmung oder Ablehnung auszudrücken. Somit könnt Ihr Euch auf zwei Ebenen beteiligen und an der Diskussion aktiv mitwirken. \nNach der Podiumsdiskussion und einem anschließenden kleinen Snack findet gegen 13:30 Uhr in den selben Räumlichkeiten eine Ständemeile statt. Bei dieser könnt Ihr Euch über die verschiedenen Angebote von Organisationen aus der politischen Bildung informieren. \nFür den Besuch der Podiumsdiskussion bitten wir Euch um Anmeldung. Für den Besuch der Ständemeile ab 13:30 Uhr ist keine Anmeldung erforderlich. \nDie Anmeldung ist abgeschlossen.
URL:https://muenchenfeiert75gg.de/projekt/demokratie-macht-die-schule-mit
LOCATION:Münchner Haus der Schüler*innen\, Brienner Str. 59\, München\, 80333
CATEGORIES:Aktionswoche Dienstag,Diskussion,Infostand,Loop Dienstag,Mitmach-Aktion
ATTACH;FMTTYPE=image/jpeg:https://muenchenfeiert75gg.de/wp-content/uploads/2024/02/ssv.jpg
END:VEVENT
BEGIN:VEVENT
DTSTART;TZID=UTC:20240514T163000
DTEND;TZID=UTC:20240514T183000
DTSTAMP:20260423T090043
CREATED:20240226T094908Z
LAST-MODIFIED:20240512T181555Z
UID:10000409-1715704200-1715711400@muenchenfeiert75gg.de
SUMMARY:Buchlesung "Jede*r hat das Recht"
DESCRIPTION:Buchlesung “Jede*r hat das Recht” und Diskussion über Grundrechte für Jugendliche. Die Journalistin und Juristin Christine Olderdissen hat zusammen mit ihrer achtzehnjährigen Tochter Milla ein Buch über das Grundgesetz geschrieben. \n  \nAm 23. Mai feiert das Grundgesetz Geburtstag: Es wird schon 75 Jahre alt und hat doch ganz viel Bedeutung auch für junge Menschen. Ob du das Klima retten willst\, dich ärgerst\, weil du zu jung zum Wählen bist\, oder keine Lust auf Schule hast\, auf all\ndas hat das Grundgesetz eine Antwort. Die wichtigste ist: Die Würde des Menschen. Und die Demokratie und die Meinungsfreiheit und noch viel mehr. Lass uns diskutieren\, was das mit dir zu tun hat. Das Grundgesetz hilft dir\, du selbst zu sein. \nFür Verpflegung ist gesorgt. \nKommt gerne vorbei!
URL:https://muenchenfeiert75gg.de/projekt/buchlesung-jeder-hat-das-recht
LOCATION:Münchner Haus der Schüler*innen\, Brienner Str. 59\, München\, 80333
CATEGORIES:Aktionswoche Dienstag,Diskussion,Loop Dienstag,Vortrag
ATTACH;FMTTYPE=image/jpeg:https://muenchenfeiert75gg.de/wp-content/uploads/2024/02/Buchlesung.jpg
END:VEVENT
BEGIN:VEVENT
DTSTART;TZID=UTC:20240515T173000
DTEND;TZID=UTC:20240515T190000
DTSTAMP:20260423T090043
CREATED:20240214T151104Z
LAST-MODIFIED:20240512T150417Z
UID:10000007-1715794200-1715799600@muenchenfeiert75gg.de
SUMMARY:Vortrag von Heribert Prantl: Warum das Grundgesetz so wichtig ist
DESCRIPTION:Heribert Prantl\, Jurist und Journalist (u. a. Süddeutsche Zeitung)\, ausgewiesener Kenner und Kommentator des Grundgesetzes\, nimmt seine Gäste mit in aktuelle Einschätzungen und Gedanken zum Grundgesetz und steht im Anschluss für Fragen der Schüler*innen und Gäste zur Verfügung. \n  \nDemokratie ist nicht irgendwann mal vom Himmel gefallen und dann  für immer da. Demokratie muss man lernen\, immer und immer wieder. Demokratie beginnt in der Schule\, sie ist ein Lebensprinzip. Es gibt gleichwohl Leute die meinen\,. Demokratie sei nicht mehr als eine Kiste: neunzig Zentimeter hoch und 23 Zentimeter breit; oben hat die Demokratie einen Deckel mit Schlitz. Alle paar Jahre\, in Deutschland immer an einem Sonntag\, kommen dann viele Leute zu diesen Kisten. Die Kiste heißt „Urne“\, also genauso wie das Gefäß\, in dem die Asche von Verstorbenen aufbewahrt wird. Wahlurne – das ist eigentlich ein merkwürdiger Name\, denn die Demokratie wird ja an diesen Tagen nicht verbrannt und beerdigt. Im Gegenteil: sie wird geboren\, immer wieder neu\, alle paar Jahre. \nDemokratie ist aber sehr viel mehr als nur eine Wahl und eine Mehrheitsentscheidung. Demokratie ist eine Wertegemeinschaft. Diese Werte stehen im Grundgesetz. Dieses Grundgesetz wird jetzt 75 Jahre alt. Es gehört zum Besten\, was den Deutschen in ihrer langen Geschichte passiert ist. Das Grundgesetz  ist ein Wunder\, dem freilich auch Wunden geschlagen worden sind.  Menschen in diesem Alter sind schon lang in Pension. Vom Grundgesetz wünsche ich mir das nicht. Ich wünsche unserer Verfassung nicht den Ruhestand\, sondern neue Kraft und neue Stärke. Ich wünsche mir Grundrechte\, auf die sich die Bürgerrinnen und Bürger verlassen können; ich wünsche mir Gerichte\, Parlamente und eine couragierte Gesellschaft\, die diese Grundrechte verteidigen: gegen Rassisten und Ausländerhasser\, gegen Entsolidarisierung\, gegen Datensammelwahnsinn und Überwachung\, gegen Krieg und Gewalt. \n– Heribert Prantl \nDie Anmeldung ist abgeschlossen.
URL:https://muenchenfeiert75gg.de/projekt/ein-abend-zum-grundgesetz-mit-heribert-prantl
LOCATION:Alter Rathaussaal\, Marienplatz 15\, München\, 80331
CATEGORIES:Aktionswoche Mittwoch,Aufführung,Loop Mittwoch,Vortrag
ATTACH;FMTTYPE=image/jpeg:https://muenchenfeiert75gg.de/wp-content/uploads/2024/02/04_Heribert-Prantl.jpg
END:VEVENT
BEGIN:VEVENT
DTSTART;TZID=UTC:20240516T140000
DTEND;TZID=UTC:20240516T150000
DTSTAMP:20260423T090043
CREATED:20240214T151120Z
LAST-MODIFIED:20240513T155732Z
UID:10000014-1715868000-1715871600@muenchenfeiert75gg.de
SUMMARY:Das Grundgesetz – Geschichtlicher Überblick und gesellschaftlicher Stellenwert
DESCRIPTION:Fachvortrag von Dr. Sebastian Rojek der Universität Stuttgart\, Historisches Institut\, Abteilung Neuere Geschichte \n  \nAusgehend von der Tatsache\, dass das Grundgesetz seit 75 Jahren die politische und gesellschaftliche Ordnung Deutschlands im demokratischen Sinne ausgestaltet\, wird der Vortrag einen historischen Überblick über die Entwicklung dieser Ordnung geben. Dabei geht es nicht um eine verfassungsrechtliche Analyse\, sondern um eine historische.\nDer Vortrag stellt die entscheidenden Schritte der Entwicklung des Grundgesetzes vor dem Hintergrund der Erfahrungen mit der Weimarer Reichsverfassung sowie deren Deformation und schließliche Aufhebung in der späten Weimarer Republik und der Diktatur des „Dritten Reiches“ dar. Es geht dabei um die Gründerväter und -mütter des Grundgesetzes\, die Reaktionen der breiten Bevölkerung auf die neue Verfassung und den zunächst provisorischen Status der neuen Ordnung. Dabei zeigt sich\, dass das Grundgesetz sich im Laufe der Zeit vom Provisorium zum weitgehend akzeptierten„Exportschlager“ entwickelte\, dass deshalb auch angesichts der sog. „Wiedervereinigung“ nicht grundlegend geändert wurde. Der Vortrag schließt mit einem Blick auf die aktuellen Herausforderungen für die Demokratie und fragt nach der Rolle und Bedeutung des Grundgesetzes heute. Es geht also darum\, die Gegenwart mit historischer Tiefenschärfe betrachten zu können\, nicht um platte Lehren daraus ziehen zu können\, sondern um die aktuellen Herausforderungen besser einzuordnen und zu reflektieren. \nGerne können Sie spontan am 16.05.2024 teilnehmen.\nLink zum Online Vortrag:\nhttps://lhm.webex.com/lhm/j.php?MTID=mf942688f747e224ce661a5084e3dfa44\nMit Meeting-Kennnummer beitreten\nMeeting-Kennnummer (Zugriffscode): 2742 512 9182\nMeeting Passwort: WnBpusfM222 (96278736 über Telefon- und Videosysteme)
URL:https://muenchenfeiert75gg.de/projekt/das-grundgesetz-geschichtlicher-ueberblick-und-gesellschaftlicher-stellenwert
LOCATION:Online Vortrag
CATEGORIES:Aktionswoche Donnerstag,Loop Donnerstag,Online-Veranstaltung,Vortrag
ATTACH;FMTTYPE=image/jpeg:https://muenchenfeiert75gg.de/wp-content/uploads/2024/02/5-1-Das-Grundgesetzt-Geschichtlicher-Ueberblick.jpg
END:VEVENT
END:VCALENDAR