BEGIN:VCALENDAR
VERSION:2.0
PRODID:-//München feiert 75 Jahre Grundgesetz - ECPv6.5.1.5//NONSGML v1.0//EN
CALSCALE:GREGORIAN
METHOD:PUBLISH
X-WR-CALNAME:München feiert 75 Jahre Grundgesetz
X-ORIGINAL-URL:https://muenchenfeiert75gg.de
X-WR-CALDESC:Veranstaltungen für München feiert 75 Jahre Grundgesetz
REFRESH-INTERVAL;VALUE=DURATION:PT1H
X-Robots-Tag:noindex
X-PUBLISHED-TTL:PT1H
BEGIN:VTIMEZONE
TZID:UTC
BEGIN:STANDARD
TZOFFSETFROM:+0000
TZOFFSETTO:+0000
TZNAME:UTC
DTSTART:20240101T000000
END:STANDARD
END:VTIMEZONE
BEGIN:VEVENT
DTSTART;TZID=UTC:20240307T000000
DTEND;TZID=UTC:20240506T235959
DTSTAMP:20260424T100723
CREATED:20240216T111814Z
LAST-MODIFIED:20240229T085527Z
UID:10000025-1709769600-1715039999@muenchenfeiert75gg.de
SUMMARY:Ausstellung von Kita-Kunstwerken zum Thema "Mensch"
DESCRIPTION:In der Ausstellung im Glasgang des Referats werden verschiedene Kunstwerke von Kita-Kindern zum Thema “Mensch”\ngezeigt. \n  \n“Was bedeutet es\, Mensch zu sein?” – Mit dieser Frage haben sich unsere jüngsten Bürger*innen auseinandergesetzt.\nAngeleitet von ihrer Erzieherin haben sich die zwei- bis sechsjährigen Kinder mit Themen wie allgemeine Gleichbehandlung\,\nSchutz des eigenen Zuhauses und Versammlungsrecht auseinander gesetzt und hierzu sehr kreative Kunstwerke erstellt.\nDie Ausstellung wird von Anfang März bis Anfang Mai im Glasgang des Referats für Bildung und Sport in der Bayerstraße 28\ngezeigt.
URL:https://muenchenfeiert75gg.de/projekt/ausstellung-von-kita-kunstwerken-zum-thema-mensch
LOCATION:Glasgang des Referats für Bildung und Sport\, Bayerstraße 28\, München\, 80335
CATEGORIES:Ausstellung
ORGANIZER;CN="Referat f%C3%BCr Bildung und Sport Presse und Kommunikation":MAILTO:aktionswoche75jahregg.rbs@muenchen.de
END:VEVENT
BEGIN:VEVENT
DTSTART;TZID=UTC:20240405T093000
DTEND;TZID=UTC:20240405T110000
DTSTAMP:20260424T100723
CREATED:20240325T110145Z
LAST-MODIFIED:20240325T114016Z
UID:10000419-1712309400-1712314800@muenchenfeiert75gg.de
SUMMARY:Die Europawahl
DESCRIPTION:Der Dozent Paul Gaedtke informiert über die anstehende Europawahl am 9. Juni und erklärt anhand von praktischen Beispielen die Wichtigkeit von Wahlen im Allgemeinen. \n  \nAm 09.06.2024 wählen wir in Deutschland unsere Abgeordneten für das Europäische Parlament. Was entscheidet das Parlament und wofür ist es zuständig? Was hat das mit unserem Alltag zu tun und warum ist Wählen wichtig? Wer darf wählen\, was kann die / der Einzelne mit ihrer/ seiner Stimme beeinflussen und was hat das mit meinem Alltag zu tun? Im Rahmen der „Aktionswoche 75 Jahre Grundgesetz“ informiert Paul Gaedtke zu all diesen Fragen in einfacher Sprache im BildungsLokal Riem und beantwortet Ihre Fragen. \nDer Vortrag findet in einfacher Sprache statt und ist auch für Teilnehmer*innen geeignet\, deren Muttersprache nicht Deutsch ist. \n 
URL:https://muenchenfeiert75gg.de/projekt/932
LOCATION:BildungsLokal Riem\, Elisabeth-Castonier-Platz 17\, München\, 81829
CATEGORIES:Loop Freitag,Vortrag
ORGANIZER;CN="Referat f%C3%BCr Bildung und Sport":MAILTO:aktionswoche75jahregg.rbs@muenchen.de
END:VEVENT
BEGIN:VEVENT
DTSTART;TZID=UTC:20240412T093000
DTEND;TZID=UTC:20240412T110000
DTSTAMP:20260424T100723
CREATED:20240325T111555Z
LAST-MODIFIED:20240325T112547Z
UID:10000420-1712914200-1712919600@muenchenfeiert75gg.de
SUMMARY:Das Grundgesetz
DESCRIPTION:Der Dozent Paul Gaedtke informiert im Rahmen der Aktionswoche über das Grundgesetz\, seine darin geregelten Rechte und welche Rolle sie im Leben jedes Einzelnen spielen. \n  \nIn dieser Veranstaltung werden die wichtigsten Fragen und Themen rund um unser Grundgesetz\, das im Jahr 2024 seinen 75. “Geburtstag” feiert\, in einfacher Sprache erklärt und zur Diskussion gestellt. \nWelche Rechte sind im Grundgesetz verankert? Wann und warum wurde es geschrieben und wer hat es verfasst? Warum ist es für unser freiheitlich demokratisches Leben in Deutschland so wichtig? Im Rahmen der „Aktionswoche 75 Jahre Grundgesetz“ informiert der Dozent Paul Gaedtke in einfacher Sprache und beantwortet Ihre Fragen. \nDer Vortrag findet in einfacher Sprache statt und ist auch für Teilnehmer*innen geeignet\, deren Muttersprache nicht Deutsch ist.
URL:https://muenchenfeiert75gg.de/projekt/das-grundgesetz
LOCATION:BildungsLokal Riem\, Elisabeth-Castonier-Platz 17\, München\, 81829
CATEGORIES:Vortrag
ORGANIZER;CN="Referat f%C3%BCr Bildung und Sport":MAILTO:aktionswoche75jahregg.rbs@muenchen.de
END:VEVENT
BEGIN:VEVENT
DTSTART;TZID=UTC:20240415T000000
DTEND;TZID=UTC:20240419T235959
DTSTAMP:20260424T100723
CREATED:20240215T111557Z
LAST-MODIFIED:20240415T151249Z
UID:10000021-1713139200-1713571199@muenchenfeiert75gg.de
SUMMARY:Jetzt bis du gefragt! Demokratiewerkstatt für junge Münchner*innen
DESCRIPTION:Was ist eigentlich Demokratie? Warum ist das für uns wichtig? Und wo könnt ihr euch für eure Rechte in der Stadt stark\nmachen? Findet es heraus in der „Demokratiewerkstatt für junge Münchner*innen” im Münchner Rathaus! \n  \nWas ist eigentlich Demokratie? Warum ist das für uns wichtig und wie wirkt sich das auch auf euren Alltag aus? Findet es\nheraus in der „Demokratiewerkstatt für junge Münchner*innen” im Münchner Rathaus!\nEuch erwartet ein spielerischer Überblick\, was Demokratien weltweit kennzeichnet\, ihr erfahrt\, wie das mit Menschen- und\nKinderrechten zusammenhängt und wo all das sich auf euren Alltag in München auswirkt. Außerdem bekommt ihr Tipps\, wie\nihr aktiv die Stadt mitgestalten könnt und erarbeitet gemeinsam Vorschläge\, was in München aus eurer Sicht verbessert\nwerden muss. Abschließend setzt ihr eure Ideen mit Unterstützung von Profis in ein Gemeinschaftskunstwerk um\, das\nanschließend öffentlich ausgestellt wird. \nDas Programm richtet sich an Gruppen und Schulklassen aller Schularten der 4. bis 8. Jahrgangsstufe.\nAngebotszeit: 8.30-12.30 und 13.30-15.30 Uhr in der Ratstrinkstube des Münchner Rathauses\nEine Anmeldung ist erforderlich\, die Teilnahme ist kostenfrei. \nAnmeldung: kinderforum@kulturundspielraum.de
URL:https://muenchenfeiert75gg.de/projekt/jetzt-bis-du-gefragt-demokratiewerkstatt-fuer-junge-muenchnerinnen
LOCATION:Ratstrinkstube\, Neues Rathaus\, Marienplatz 8\, München\, 80331
CATEGORIES:Mitmach-Aktion,Workshop
ATTACH;FMTTYPE=image/jpeg:https://muenchenfeiert75gg.de/wp-content/uploads/2024/02/13_Demokratiewerkstatt-final.jpg
ORGANIZER;CN="Arbeitskreis Kinder- und Jugendbeteiligung%2C c/o Kultur & Spielraum e.V.":MAILTO:info@ak-kinderundjugendbeteiligung.de
END:VEVENT
BEGIN:VEVENT
DTSTART;TZID=UTC:20240513T120000
DTEND;TZID=UTC:20240513T170000
DTSTAMP:20260424T100723
CREATED:20240325T151416Z
LAST-MODIFIED:20240510T175505Z
UID:10000421-1715601600-1715619600@muenchenfeiert75gg.de
SUMMARY:Comedyworkshop mit dem Lucky Punch Comedy Club
DESCRIPTION:Als lockerer Einstieg in die Aktionswoche finden am Nachmittag des 13. Mai 2024 zwei Comedyworkshops zusammen mit dem Lucky Punch Comedy Club statt. In einer Gruppe von maximal 20 Personen könnt ihr hier zusammen mit Comedian und Buchautor Max Osswald die Grundtechniken der Comedy erlernen und anschließend eure ersten eigenen Jokes zu den Themen Demokratie\, Grundrechte & Grundgesetz schreiben. Zielgruppe sind Schüler*innen ab der 9. Klasse\, aber auch alle Münchner Bürger*innen! \nDie Anmeldung ist abgeschlossen. \n 
URL:https://muenchenfeiert75gg.de/projekt/comedyworkshop-mit-dem-lucky-punch-comedy-club-2
LOCATION:Lucky Punch Comedy Club\, Rosenheimer Str. 5\, München\, 81667
CATEGORIES:Aktionswoche,Aktionswoche Montag,Loop Montag,Workshop
ATTACH;FMTTYPE=image/jpeg:https://muenchenfeiert75gg.de/wp-content/uploads/2024/03/Lucky-Punch-Okt-23-546-scaled.jpg
ORGANIZER;CN="Referat f%C3%BCr Bildung und Sport":MAILTO:aktionswoche75jahregg.rbs@muenchen.de
END:VEVENT
BEGIN:VEVENT
DTSTART;TZID=UTC:20240513T170000
DTEND;TZID=UTC:20240513T190000
DTSTAMP:20260424T100723
CREATED:20240206T095307Z
LAST-MODIFIED:20240512T150526Z
UID:10000003-1715619600-1715626800@muenchenfeiert75gg.de
SUMMARY:Tatort Geschichte: Roter Terror - Weißer Terror: als München im Chaos versank
DESCRIPTION:Im Jahr 1919 klebt Blut auf den Straßen Münchens\, die Stadt versinkt in den Nachkriegswirren in einem Strudel der Gewalt. Kommunisten & Sozialisten kämpfen gegen Reichswehr & Freikorps\, die Leichen stapeln sich. Zwei Tatorte\, zwei Geschichten. \nWir tauchen ein in die Zeit der Nachkriegswirren\, in der die Münchner Räterepublik äußerst brutal niedergeschlagen wird. Dabei beleuchten wir auch die Frage\, ob der „Kampf um München“ schon der Vorbote für die unheilvolle deutsche Geschichte war\, die folgen sollte. War die erste deutsche Demokratie schon bei ihrer Geburt zum Scheitern verurteilt und welche Auswirkungen hat das dunkle Kapitel der Münchner Stadtgeschichte auf unser heutiges Grundgesetz? \nDie Hosts des Bayern 2 Podcasts “Tatort Geschichte” Niklas Fischer und Hannes Liebrandt (zwei Historiker der Ludwig-Maximilians-Universität München) werden in einer Live-Aufführung den Weg von der Weimarer Republik bis hin zum zum Grundgesetz der Bundesrepublik Deutschland und die damit verbundenen Unwägbarkeiten aufzeigen. \nDie Veranstaltung richtet sich an Münchner*innen ab 14 Jahren. Die Teilnehmer*innen sind eingeladen\, sich hörend ein Bild über den Weg und die Hürden des Zustandekommens des Grundgesetzes zu machen. \nWeitere Folgen des Podcasts “Tatort Geschichte” sind in der ARD Audiothek zu finden. \nDie Anmeldung ist abgeschlossen.\n \n \n 
URL:https://muenchenfeiert75gg.de/projekt/live-podcastfolge-tatort-geschichte
LOCATION:Schulzentrum\, Schlierseestr. 47\, München\, 81539
CATEGORIES:Aktionswoche Montag,Aufführung,Loop Montag,Vortrag
ATTACH;FMTTYPE=image/jpeg:https://muenchenfeiert75gg.de/wp-content/uploads/2024/02/Tatort-Geschichte-History-Crime-Cover-Var5.1.jpg
ORGANIZER;CN="Referat f%C3%BCr Bildung und Sport":MAILTO:aktionswoche75jahregg.rbs@muenchen.de
END:VEVENT
BEGIN:VEVENT
DTSTART;TZID=UTC:20240513T180000
DTEND;TZID=UTC:20240513T200000
DTSTAMP:20260424T100723
CREATED:20240228T084556Z
LAST-MODIFIED:20240512T150231Z
UID:10000412-1715623200-1715630400@muenchenfeiert75gg.de
SUMMARY:Comedy und Grundrechte mit dem Lucky Punch Comedy Club
DESCRIPTION:Comedy und Grundrechte? Geht das zusammen?? Wir finden schon. Überzeugt euch selbst am Montag\, dem 13. Mai in Münchens neuem Comedy Hotspot mit den Comedians Ana Lucia\, Yalcin Norton\, Max Osswald\, Jojo Fikentscher und Ismail Hürriyetoglu. Sie nehmen die Herausforderung an\, ob die Themen Demokratie und Grundrechte auf eine Comedy Bühne gehören. Moderator Hauke van Göns wird durch diesen Abend führen. \nDie Teilnahme an der Comedynight ist kostenlos. \nDie Veranstaltung richtet sich an Münchner*innen ab 14 Jahren. \nBitte beachten Sie\, dass hier eine Anmeldung erforderlich ist. \nDie Anmeldung ist abgeschlossen.
URL:https://muenchenfeiert75gg.de/projekt/comedynight
LOCATION:Lucky Punch Comedy Club\, Rosenheimer Str. 5\, München\, 81667
CATEGORIES:Aktionswoche Montag,Loop Montag
ATTACH;FMTTYPE=image/jpeg:https://muenchenfeiert75gg.de/wp-content/uploads/2024/02/Max-Osswald-scaled.jpg
ORGANIZER;CN="Referat f%C3%BCr Bildung und Sport Presse und Kommunikation":MAILTO:aktionswoche75jahregg.rbs@muenchen.de
END:VEVENT
END:VCALENDAR