BEGIN:VCALENDAR
VERSION:2.0
PRODID:-//München feiert 75 Jahre Grundgesetz - ECPv6.5.1.5//NONSGML v1.0//EN
CALSCALE:GREGORIAN
METHOD:PUBLISH
X-WR-CALNAME:München feiert 75 Jahre Grundgesetz
X-ORIGINAL-URL:https://muenchenfeiert75gg.de
X-WR-CALDESC:Veranstaltungen für München feiert 75 Jahre Grundgesetz
REFRESH-INTERVAL;VALUE=DURATION:PT1H
X-Robots-Tag:noindex
X-PUBLISHED-TTL:PT1H
BEGIN:VTIMEZONE
TZID:UTC
BEGIN:STANDARD
TZOFFSETFROM:+0000
TZOFFSETTO:+0000
TZNAME:UTC
DTSTART:20230101T000000
END:STANDARD
END:VTIMEZONE
BEGIN:VEVENT
DTSTART;TZID=UTC:20231028T000000
DTEND;TZID=UTC:20240703T235959
DTSTAMP:20260420T084334
CREATED:20240216T094719Z
LAST-MODIFIED:20240415T151220Z
UID:10000023-1698451200-1720051199@muenchenfeiert75gg.de
SUMMARY:Ausbildung zum Medienscout für Schüler*innen
DESCRIPTION:Können alle Ihre Schüler*innen sicher Fakt von Fake unterscheiden? Und: Hinterfragen alle ihr Handeln kritisch\, bevor sie\nInhalte im Internet posten?\nDas Pädagogische Institut – Zentrum für Kommunales Bildungsmanagement (PI-ZKB)\, Fachbereich Neue Medien /\nMedienpädagogik bietet ab dem Schuljahr 2023/24 eine kostenfreie Ausbildung zum Medienscout für etwa 90 Schüler*innen\naller Schularten ab der 8. Klasse an. Im Rahmen eines Wahlkurses an ihrer Schule erhalten die Jugendlichen von Profis eine\nfundierte Ausbildung zu Medienscouts. Ziel ist es\, dass sie anschließend der gesamten Schulfamilie bei medienbezogenen\nThemen mit Rat und Tat zur Seite stehen. Dabei unterstützt das PI-ZKB die Schüler*innen vollumfänglich\, egal ob es um den\nUmgang mit Fake News\, die Nutzung von Apps\, der Begegnung von Hatespeech\, die mediale Selbstwahrnehmung oder\nwomöglich um die Organisation von Elternabenden geht. Auch bei Aktivitäten wie Coding-Projekten\, der Einrichtung eines\nMakerspaces und Mediensprechstunden können Medienscouts das Schulleben bereichern.\nIm Rahmen der Aktionswoche führen die Medienscoutgruppen an ihren jeweiligen Schulen partizipative Aktionen durch\, wie\nbeispielsweise eine Kampagen zu #nichtegal für eine positive Netzkultur\, die sich gegen Hass im Netz einsetzt und aktiv gegen\nMisinformationen vorgeht. \nAnmeldung unter https://medienbox.medienbildung-muenchen.de
URL:https://muenchenfeiert75gg.de/projekt/ausbildung-zum-medienscout-fuer-schuelerinnen
LOCATION:medienBox\, Riesstr. 32\, München\, 80992
CATEGORIES:Infostand,Mitmach-Aktion
ATTACH;FMTTYPE=image/jpeg:https://muenchenfeiert75gg.de/wp-content/uploads/2024/02/22_Medienscouts-Grafik-2.jpg
END:VEVENT
BEGIN:VEVENT
DTSTART;TZID=UTC:20240207T000000
DTEND;TZID=UTC:20240709T235959
DTSTAMP:20260420T084334
CREATED:20240216T110743Z
LAST-MODIFIED:20240227T095603Z
UID:10000024-1707264000-1720569599@muenchenfeiert75gg.de
SUMMARY:MünchenHören 2024 - Kinder haben Rechte - Podcasts zu 75 Jahre Grundgesetz
DESCRIPTION:Beim medienpädagogischen Projekt „MünchenHören” produzieren Münchner Schüler*innen zusammen mit Radiojournalisten\nund pädagogischen Mitarbeitenden des Pädagogischen Instituts – Zentrum für Kommunales Bildungsmanagement (PI-ZKB)\nPodcasts zu “Kinder haben Rechte – Podcasts zu 75 Jahre Grundgesetz”. Die entstandenen Interviews\, Berichte oder auch\nHörspiele werden im Internet auf www.br.de/muenchen-hoeren und in der BR Mediathek als Podcasts präsentiert. \n  \nIn der diesjährigen 15. Staffel von MünchenHören zum Thema “Kinder haben Rechte – Podcasts zu 75 Jahre\nGrundgesetz” entstehen Interviews\, Berichte oder auch Hörspiele\, die im Internet auf www.br.de/muenchen-hoeren und in\nder BR Mediathek als Podcasts präsentiert werden.\nDie Schüler*innen erwerben während der Arbeit an ihren Hörbeiträgen nicht nur Kenntnisse über das jeweilige Thema\,\nsondern lernen auch gezielte Recherche\, sowohl online als auch “analog”. Sie lernen Fragen zu stellen\, gut zuzuhören und\ndenken sich eigene Texte für ihr Audio aus. Sie arbeiten im Team und erstellen gemeinsam einen Projektplan. Lehrkräfte\nentdecken aktive\, projektorientierte Medienarbeit als Unterrichtsmethode\, die sich in jedes Schulfach integrieren lässt\,\ninhaltliche Bezüge können zu nahezu allen Fächern hergestellt werden. Dazu werden die Lehrkräfte fortgebildet und im\nProjektverlauf unterstützt. Die Projektideen präsentieren die Schüler*innen auf einer Auftaktveranstaltung im März 2024 sowie\ndie fertigen Podcasts im Juli 2024 bei der Abschlussveranstaltung im großen Studio 1 im BR Funkhaus. Ab diesem Tag sind\nalle Beiträge auch im Internet und als Podcast auf www.br.de/muenchenhoeren zu hören. Bislang wurden ca. 400 Hörbeiträge\nzu unterschiedlichsten Themen aus fast allen Stadtvierteln Münchens veröffentlicht.
URL:https://muenchenfeiert75gg.de/projekt/muenchenhoeren-2024-kinder-haben-rechte-podcasts-zu-75-jahre-grundgesetz
LOCATION:Bildungseinrichtungen / Bayerischer Rundfunk
ATTACH;FMTTYPE=image/jpeg:https://muenchenfeiert75gg.de/wp-content/uploads/2024/02/24_muenchen-hoeren-themenbild.jpg
END:VEVENT
END:VCALENDAR